BEGIN:VCALENDAR
VERSION:2.0
PRODID:-//Tri-County Computer Services Association - ECPv6.15.20//NONSGML v1.0//EN
CALSCALE:GREGORIAN
METHOD:PUBLISH

X-ORIGINAL-URL:https://www.tccsa.net

REFRESH-INTERVAL;VALUE=DURATION:PT1H
X-Robots-Tag:noindex
X-PUBLISHED-TTL:PT1H
BEGIN:VTIMEZONE
TZID:America/New_York
BEGIN:DAYLIGHT
TZOFFSETFROM:-0500
TZOFFSETTO:-0400
TZNAME:EDT
DTSTART:20240310T070000
END:DAYLIGHT
BEGIN:STANDARD
TZOFFSETFROM:-0400
TZOFFSETTO:-0500
TZNAME:EST
DTSTART:20241103T060000
END:STANDARD
BEGIN:DAYLIGHT
TZOFFSETFROM:-0500
TZOFFSETTO:-0400
TZNAME:EDT
DTSTART:20250309T070000
END:DAYLIGHT
BEGIN:STANDARD
TZOFFSETFROM:-0400
TZOFFSETTO:-0500
TZNAME:EST
DTSTART:20251102T060000
END:STANDARD
BEGIN:DAYLIGHT
TZOFFSETFROM:-0500
TZOFFSETTO:-0400
TZNAME:EDT
DTSTART:20260308T070000
END:DAYLIGHT
BEGIN:STANDARD
TZOFFSETFROM:-0400
TZOFFSETTO:-0500
TZNAME:EST
DTSTART:20261101T060000
END:STANDARD
END:VTIMEZONE
BEGIN:VEVENT
DTSTART;TZID=America/New_York:20250915T090000
DTEND;TZID=America/New_York:20250915T120000
DTSTAMP:20260425T062438
CREATED:20250908T154118Z
LAST-MODIFIED:20250908T154118Z
UID:10000152-1757926800-1757937600@www.tccsa.net
SUMMARY:EMIS-FY26 Calendar and Gifted Checklist Training
DESCRIPTION:During this training we will cover the Calendar Reporting requirements for EMIS with overview of the process in SI/DASL. The second part of this training will be generating Gifted records for the 25-26 school year. \nIf participants wish to have a hard copy of the materials\, please print the materials listed below to have available. \nFrom the Learning Center\, select the Student Information option\, select StudentInformation:Procedural Checklists\, then EMIS section\, and select: \n\nFY26 Calendar Checklist\nGifted Checklist\n\nFrom the Learning Center\, StudentInformation: Quick References\, click EMIS section and select: Calendar and Exception Days QR \nIt would also be helpful to have a hard copy from one of your buildings Master Calendar Summary page\, to have a reference for all needed to set up your EMIS exceptions.\n\nVirtual URL: https://us02web.zoom.us/j/3309881028?pwd=yP5GA4Dbw_Uz1vUUXr8Ok1inz8wPNlc&omn=85767897141\n\nIf you are unable to attend this event, please cancel your registration by emailing baltic@tccsa.net
URL:https://www.tccsa.net/event/emis-fy26-calendar-and-gifted/
LOCATION:TCCSA – Training Lab\, 2125 Eagle Pass\, Wooster\, OH\, 44691\, United States
CATEGORIES:EMIS Services
ORGANIZER;CN="Shelly Baltic":MAILTO:baltic@tccsa.net
END:VEVENT
BEGIN:VEVENT
DTSTART;TZID=America/New_York:20250922T090000
DTEND;TZID=America/New_York:20250922T113000
DTSTAMP:20260425T062438
CREATED:20250908T160225Z
LAST-MODIFIED:20250908T160225Z
UID:10000153-1758531600-1758540600@www.tccsa.net
SUMMARY:EMIS Alliance-GRAD Reports
DESCRIPTION:Agenda items  include: \n\nOverview of Reports and Requirements\nNewly Assigned to Grad Cohort Reports\nGrad Cohort Year Status Reports\nCTE Grad Cohort Reports\nGrad issues\nGraduation Gen Issues Reports\nGraduation Cohort Pathways Report Card\nCollege\, Career\, Workforce\, and Military Readiness Report\n\nEMIS Alliance – Troubleshooting Graduation Reports will be posted to the TCCSA webpage when available with Demo data but districts are encouraged to use their district’s data.\n\nVirtual URL: https://us02web.zoom.us/j/3309881028?pwd=yP5GA4Dbw_Uz1vUUXr8Ok1inz8wPNlc&omn=83937969136\n\nIf you are unable to attend this event, please cancel your registration by emailing baltic@tccsa.net
URL:https://www.tccsa.net/event/emis-alliance-grad-reports/
LOCATION:TCCSA – Training Lab\, 2125 Eagle Pass\, Wooster\, OH\, 44691\, United States
CATEGORIES:EMIS Services
ORGANIZER;CN="Shelly Baltic":MAILTO:baltic@tccsa.net
END:VEVENT
BEGIN:VEVENT
DTSTART;TZID=America/New_York:20250924T090000
DTEND;TZID=America/New_York:20250924T120000
DTSTAMP:20260425T062438
CREATED:20250908T163457Z
LAST-MODIFIED:20250908T163457Z
UID:10000154-1758704400-1758715200@www.tccsa.net
SUMMARY:EMIS Open Lab
DESCRIPTION:TCCSA will host EMIS open labs for any EMIS Coordinator wanting to share\, work with another EMIS Coordinator or ask each other questions etc. These sessions\, are for you\, the EMIS Coordinator as a time to work with other EMIS\nCoordinators\, a place to work away from the buildings\, using the TCCSA training lab. \nEMIS Open Lab Document:\nhttps://docs.google.com/document/d/13PnA_9U0BHJs6aoMfeHgU-jJnBxtXcohFzfEOXZOqIM/edit?usp=sharing  \nFuture dates will be discussed during this session\, as well as future agenda items/topics. \nPlease email Shelly Baltic baltic@tccsa.net or Jill Obrst jobrst@westholmes.org if you are interested in facilitating a topic in this session. \n \n\nIf you are unable to attend this event, please cancel your registration by emailing baltic@tccsa.net
URL:https://www.tccsa.net/event/emis-open-lab/
LOCATION:TCCSA – Training Lab\, 2125 Eagle Pass\, Wooster\, OH\, 44691\, United States
CATEGORIES:EMIS Services
ORGANIZER;CN="Shelly Baltic":MAILTO:baltic@tccsa.net
END:VEVENT
END:VCALENDAR