BEGIN:VCALENDAR
VERSION:2.0
PRODID:-//Tri-County Computer Services Association - ECPv6.15.20//NONSGML v1.0//EN
CALSCALE:GREGORIAN
METHOD:PUBLISH
X-ORIGINAL-URL:https://www.tccsa.net

REFRESH-INTERVAL;VALUE=DURATION:PT1H
X-Robots-Tag:noindex
X-PUBLISHED-TTL:PT1H
BEGIN:VTIMEZONE
TZID:America/New_York
BEGIN:DAYLIGHT
TZOFFSETFROM:-0500
TZOFFSETTO:-0400
TZNAME:EDT
DTSTART:20240310T070000
END:DAYLIGHT
BEGIN:STANDARD
TZOFFSETFROM:-0400
TZOFFSETTO:-0500
TZNAME:EST
DTSTART:20241103T060000
END:STANDARD
BEGIN:DAYLIGHT
TZOFFSETFROM:-0500
TZOFFSETTO:-0400
TZNAME:EDT
DTSTART:20250309T070000
END:DAYLIGHT
BEGIN:STANDARD
TZOFFSETFROM:-0400
TZOFFSETTO:-0500
TZNAME:EST
DTSTART:20251102T060000
END:STANDARD
BEGIN:DAYLIGHT
TZOFFSETFROM:-0500
TZOFFSETTO:-0400
TZNAME:EDT
DTSTART:20260308T070000
END:DAYLIGHT
BEGIN:STANDARD
TZOFFSETFROM:-0400
TZOFFSETTO:-0500
TZNAME:EST
DTSTART:20261101T060000
END:STANDARD
END:VTIMEZONE
BEGIN:VEVENT
DTSTART;TZID=America/New_York:20250402T090000
DTEND;TZID=America/New_York:20250402T110000
DTSTAMP:20260425T144645
CREATED:20250227T172635Z
LAST-MODIFIED:20250228T183650Z
UID:10000022-1743584400-1743591600@www.tccsa.net
SUMMARY:EMIS Alliance-Troubleshooting CTE FTE
DESCRIPTION:This presentation will focus on the CTE FTE Reports in order to resolve data reporting issues and verify data for accuracy and completeness. \nEMIS Alliance – Documentation and demo files will be updated and added to our website https://www.tccsa.net/emis/\n\nVirtual URL: https://us02web.zoom.us/j/83811879442?pwd=j6Ku9wrb5pWTBRduUkRB76NazzNJVh.1 \n\nIf you are unable to attend this event, please cancel your registration by emailing the organizer of the event.
URL:https://www.tccsa.net/event/emis-alliance-troubleshooting-cte-fte/
LOCATION:TCCSA – Training Lab\, 2125 Eagle Pass\, Wooster\, OH\, 44691\, United States
CATEGORIES:EMIS Services
END:VEVENT
END:VCALENDAR