BEGIN:VCALENDAR
VERSION:2.0
PRODID:-//Tri-County Computer Services Association - ECPv6.15.20//NONSGML v1.0//EN
CALSCALE:GREGORIAN
METHOD:PUBLISH
X-ORIGINAL-URL:https://www.tccsa.net

REFRESH-INTERVAL;VALUE=DURATION:PT1H
X-Robots-Tag:noindex
X-PUBLISHED-TTL:PT1H
BEGIN:VTIMEZONE
TZID:America/New_York
BEGIN:DAYLIGHT
TZOFFSETFROM:-0500
TZOFFSETTO:-0400
TZNAME:EDT
DTSTART:20240310T070000
END:DAYLIGHT
BEGIN:STANDARD
TZOFFSETFROM:-0400
TZOFFSETTO:-0500
TZNAME:EST
DTSTART:20241103T060000
END:STANDARD
BEGIN:DAYLIGHT
TZOFFSETFROM:-0500
TZOFFSETTO:-0400
TZNAME:EDT
DTSTART:20250309T070000
END:DAYLIGHT
BEGIN:STANDARD
TZOFFSETFROM:-0400
TZOFFSETTO:-0500
TZNAME:EST
DTSTART:20251102T060000
END:STANDARD
BEGIN:DAYLIGHT
TZOFFSETFROM:-0500
TZOFFSETTO:-0400
TZNAME:EDT
DTSTART:20260308T070000
END:DAYLIGHT
BEGIN:STANDARD
TZOFFSETFROM:-0400
TZOFFSETTO:-0500
TZNAME:EST
DTSTART:20261101T060000
END:STANDARD
END:VTIMEZONE
BEGIN:VEVENT
DTSTART;TZID=America/New_York:20250515T090000
DTEND;TZID=America/New_York:20250515T110000
DTSTAMP:20260425T131847
CREATED:20250228T172739Z
LAST-MODIFIED:20250228T183627Z
UID:10000023-1747299600-1747306800@www.tccsa.net
SUMMARY:EMIS Alliance-Troubleshooting WKC (Where Kids Count)
DESCRIPTION:This presentation will focus on troubleshooting the WKC Report: \n\nresolve data reporting issues\nverify data for accuracy and completeness\n\nEMIS Alliance – Where Kids Count documentation and demo files will be updated and added to our website https://www.tccsa.net/emis/\n\nVirtual URL: https://us02web.zoom.us/j/81947498659?pwd=Kwji4XZ5L36uJYALCypalBorgQjGM1.1\n\nIf you are unable to attend this event, please cancel your registration by emailing baltic@tccsa.net
URL:https://www.tccsa.net/event/emis-alliance-wkc/
LOCATION:TCCSA – Training Lab\, 2125 Eagle Pass\, Wooster\, OH\, 44691\, United States
CATEGORIES:EMIS Services
ORGANIZER;CN="Shelly Baltic":MAILTO:baltic@tccsa.net
END:VEVENT
END:VCALENDAR