BEGIN:VCALENDAR
VERSION:2.0
PRODID:-//Tri-County Computer Services Association - ECPv6.15.20//NONSGML v1.0//EN
CALSCALE:GREGORIAN
METHOD:PUBLISH

X-ORIGINAL-URL:https://www.tccsa.net

REFRESH-INTERVAL;VALUE=DURATION:PT1H
X-Robots-Tag:noindex
X-PUBLISHED-TTL:PT1H
BEGIN:VTIMEZONE
TZID:America/New_York
BEGIN:DAYLIGHT
TZOFFSETFROM:-0500
TZOFFSETTO:-0400
TZNAME:EDT
DTSTART:20240310T070000
END:DAYLIGHT
BEGIN:STANDARD
TZOFFSETFROM:-0400
TZOFFSETTO:-0500
TZNAME:EST
DTSTART:20241103T060000
END:STANDARD
BEGIN:DAYLIGHT
TZOFFSETFROM:-0500
TZOFFSETTO:-0400
TZNAME:EDT
DTSTART:20250309T070000
END:DAYLIGHT
BEGIN:STANDARD
TZOFFSETFROM:-0400
TZOFFSETTO:-0500
TZNAME:EST
DTSTART:20251102T060000
END:STANDARD
BEGIN:DAYLIGHT
TZOFFSETFROM:-0500
TZOFFSETTO:-0400
TZNAME:EDT
DTSTART:20260308T070000
END:DAYLIGHT
BEGIN:STANDARD
TZOFFSETFROM:-0400
TZOFFSETTO:-0500
TZNAME:EST
DTSTART:20261101T060000
END:STANDARD
END:VTIMEZONE
BEGIN:VEVENT
DTSTART;TZID=America/New_York:20250625T090000
DTEND;TZID=America/New_York:20250625T120000
DTSTAMP:20260425T115824
CREATED:20250228T183530Z
LAST-MODIFIED:20250228T183530Z
UID:10000027-1750842000-1750852800@www.tccsa.net
SUMMARY:EMIS - FY25 G Reporting Period and Fall Initialization
DESCRIPTION:We will give an overview of FY25 Period G Graduate Checklist. After\, we will discuss the process of Fall Initialization. \n  \n(If participants wish to have a hard copy of the materials\, please print the materials below prior to training) \nIn StudentInformation\, click on the ?\, then Learning Center\, select the StudentInformation option\, select Procedural Checklists\, then EMIS section\, and select:\nFY25 Period G EMIS (once updated) \nFrom the StudentInformation Documents area:\nEMIS – Fall Initialization reference guide \nAlso\, closer to the training an email will be sent with the survey for the Fall Initialization process that TCCSA will complete mid July.\n\nVirtual URL: https://us02web.zoom.us/j/89631969040?pwd=REJd3vDbqfJw5x8MoiioNYv8YYCXXs.1\n\nIf you are unable to attend this event, please cancel your registration by emailing baltic@tccsa.net
URL:https://www.tccsa.net/event/emis-fy25-period-g-fall-init/
LOCATION:TCCSA – Training Lab\, 2125 Eagle Pass\, Wooster\, OH\, 44691\, United States
CATEGORIES:EMIS Services
ORGANIZER;CN="Shelly Baltic":MAILTO:baltic@tccsa.net
END:VEVENT
END:VCALENDAR