BEGIN:VCALENDAR
VERSION:2.0
PRODID:-//Tri-County Computer Services Association - ECPv6.15.20//NONSGML v1.0//EN
CALSCALE:GREGORIAN
METHOD:PUBLISH
X-ORIGINAL-URL:https://www.tccsa.net

REFRESH-INTERVAL;VALUE=DURATION:PT1H
X-Robots-Tag:noindex
X-PUBLISHED-TTL:PT1H
BEGIN:VTIMEZONE
TZID:America/New_York
BEGIN:DAYLIGHT
TZOFFSETFROM:-0500
TZOFFSETTO:-0400
TZNAME:EDT
DTSTART:20240310T070000
END:DAYLIGHT
BEGIN:STANDARD
TZOFFSETFROM:-0400
TZOFFSETTO:-0500
TZNAME:EST
DTSTART:20241103T060000
END:STANDARD
BEGIN:DAYLIGHT
TZOFFSETFROM:-0500
TZOFFSETTO:-0400
TZNAME:EDT
DTSTART:20250309T070000
END:DAYLIGHT
BEGIN:STANDARD
TZOFFSETFROM:-0400
TZOFFSETTO:-0500
TZNAME:EST
DTSTART:20251102T060000
END:STANDARD
BEGIN:DAYLIGHT
TZOFFSETFROM:-0500
TZOFFSETTO:-0400
TZNAME:EDT
DTSTART:20260308T070000
END:DAYLIGHT
BEGIN:STANDARD
TZOFFSETFROM:-0400
TZOFFSETTO:-0500
TZNAME:EST
DTSTART:20261101T060000
END:STANDARD
END:VTIMEZONE
BEGIN:VEVENT
DTSTART;TZID=America/New_York:20250922T090000
DTEND;TZID=America/New_York:20250922T113000
DTSTAMP:20260425T075014
CREATED:20250908T160225Z
LAST-MODIFIED:20250908T160225Z
UID:10000153-1758531600-1758540600@www.tccsa.net
SUMMARY:EMIS Alliance-GRAD Reports
DESCRIPTION:Agenda items  include: \n\nOverview of Reports and Requirements\nNewly Assigned to Grad Cohort Reports\nGrad Cohort Year Status Reports\nCTE Grad Cohort Reports\nGrad issues\nGraduation Gen Issues Reports\nGraduation Cohort Pathways Report Card\nCollege\, Career\, Workforce\, and Military Readiness Report\n\nEMIS Alliance – Troubleshooting Graduation Reports will be posted to the TCCSA webpage when available with Demo data but districts are encouraged to use their district’s data.\n\nVirtual URL: https://us02web.zoom.us/j/3309881028?pwd=yP5GA4Dbw_Uz1vUUXr8Ok1inz8wPNlc&omn=83937969136\n\nIf you are unable to attend this event, please cancel your registration by emailing baltic@tccsa.net
URL:https://www.tccsa.net/event/emis-alliance-grad-reports/
LOCATION:TCCSA – Training Lab\, 2125 Eagle Pass\, Wooster\, OH\, 44691\, United States
CATEGORIES:EMIS Services
ORGANIZER;CN="Shelly Baltic":MAILTO:baltic@tccsa.net
END:VEVENT
END:VCALENDAR