BEGIN:VCALENDAR
VERSION:2.0
PRODID:-//Tri-County Computer Services Association - ECPv6.15.20//NONSGML v1.0//EN
CALSCALE:GREGORIAN
METHOD:PUBLISH

X-ORIGINAL-URL:https://www.tccsa.net

REFRESH-INTERVAL;VALUE=DURATION:PT1H
X-Robots-Tag:noindex
X-PUBLISHED-TTL:PT1H
BEGIN:VTIMEZONE
TZID:America/New_York
BEGIN:DAYLIGHT
TZOFFSETFROM:-0500
TZOFFSETTO:-0400
TZNAME:EDT
DTSTART:20240310T070000
END:DAYLIGHT
BEGIN:STANDARD
TZOFFSETFROM:-0400
TZOFFSETTO:-0500
TZNAME:EST
DTSTART:20241103T060000
END:STANDARD
BEGIN:DAYLIGHT
TZOFFSETFROM:-0500
TZOFFSETTO:-0400
TZNAME:EDT
DTSTART:20250309T070000
END:DAYLIGHT
BEGIN:STANDARD
TZOFFSETFROM:-0400
TZOFFSETTO:-0500
TZNAME:EST
DTSTART:20251102T060000
END:STANDARD
BEGIN:DAYLIGHT
TZOFFSETFROM:-0500
TZOFFSETTO:-0400
TZNAME:EDT
DTSTART:20260308T070000
END:DAYLIGHT
BEGIN:STANDARD
TZOFFSETFROM:-0400
TZOFFSETTO:-0500
TZNAME:EST
DTSTART:20261101T060000
END:STANDARD
END:VTIMEZONE
BEGIN:VEVENT
DTSTART;TZID=America/New_York:20251016T090000
DTEND;TZID=America/New_York:20251016T120000
DTSTAMP:20260425T062503
CREATED:20251001T180755Z
LAST-MODIFIED:20251001T180755Z
UID:10000161-1760605200-1760616000@www.tccsa.net
SUMMARY:EMIS-FY26-Initial Student-Part 1
DESCRIPTION:We will give an overview of FY26 Period S Checklist First Window.  The Period S checklist will be broken up into two trainings.  Part 1 will cover tasks related to the Initial Student collection window.  Part 2 will be offered in May which will cover tasks related to the Final Student collection window. \nBelow is training materials from the Learning Center needed for the session:\nStudentInformation\, Procedural Checklists\, EMIS section\, and select: \nFY26 Period S Checklist – All Districts\, All ‘S’ Windows\n\nVirtual URL: https://us02web.zoom.us/j/3309881028?pwd=yP5GA4Dbw_Uz1vUUXr8Ok1inz8wPNlc&omn=85063512472\n\nIf you are unable to attend this event, please cancel your registration by emailing baltic@tccsa.net
URL:https://www.tccsa.net/event/emis-fy26-initial-student-part-1/
LOCATION:TCCSA – Training Lab\, 2125 Eagle Pass\, Wooster\, OH\, 44691\, United States
CATEGORIES:EMIS Services
ORGANIZER;CN="Shelly Baltic":MAILTO:baltic@tccsa.net
END:VEVENT
END:VCALENDAR