BEGIN:VCALENDAR
VERSION:2.0
PRODID:-//Tri-County Computer Services Association - ECPv6.15.20//NONSGML v1.0//EN
CALSCALE:GREGORIAN
METHOD:PUBLISH
X-ORIGINAL-URL:https://www.tccsa.net

REFRESH-INTERVAL;VALUE=DURATION:PT1H
X-Robots-Tag:noindex
X-PUBLISHED-TTL:PT1H
BEGIN:VTIMEZONE
TZID:America/New_York
BEGIN:DAYLIGHT
TZOFFSETFROM:-0500
TZOFFSETTO:-0400
TZNAME:EDT
DTSTART:20240310T070000
END:DAYLIGHT
BEGIN:STANDARD
TZOFFSETFROM:-0400
TZOFFSETTO:-0500
TZNAME:EST
DTSTART:20241103T060000
END:STANDARD
BEGIN:DAYLIGHT
TZOFFSETFROM:-0500
TZOFFSETTO:-0400
TZNAME:EDT
DTSTART:20250309T070000
END:DAYLIGHT
BEGIN:STANDARD
TZOFFSETFROM:-0400
TZOFFSETTO:-0500
TZNAME:EST
DTSTART:20251102T060000
END:STANDARD
BEGIN:DAYLIGHT
TZOFFSETFROM:-0500
TZOFFSETTO:-0400
TZNAME:EDT
DTSTART:20260308T070000
END:DAYLIGHT
BEGIN:STANDARD
TZOFFSETFROM:-0400
TZOFFSETTO:-0500
TZNAME:EST
DTSTART:20261101T060000
END:STANDARD
END:VTIMEZONE
BEGIN:VEVENT
DTSTART;TZID=America/New_York:20251218T083000
DTEND;TZID=America/New_York:20251218T100000
DTSTAMP:20260422T005106
CREATED:20251113T184225Z
LAST-MODIFIED:20251217T154240Z
UID:10000271-1766046600-1766052000@www.tccsa.net
SUMMARY:The New CTE reporting for Home Schools
DESCRIPTION:The session will should be a mix of JVS guidance\, home school guidance and EMIS to review the process for reporting CTE-CTAG courses taken at the JVS and reported at the home school.  If the home school has weighted classes than students taking CTE-CTAG courses at the JVS will have those classes weighted.  We will look at the setup\, the transfer process and the import process.  This is retroactive so we will also discuss what must be done for previous years. \nCome as a team to work together to make sure your district is reporting correctly for proper cumulative GPA and class rank. You are encouraged to attend in-person but Zoom will be available. \nPlease bring your own device. \nResources: https://education.ohio.gov/getattachment/Topics/Career-Tech/Planning-Funding-and-Accountability/CTAV-CTAG-Weighted-Grade-Class-Standing-and-Guidance.pdf.aspx?lang=en-US \n \n\nVirtual URL: https://us02web.zoom.us/j/84821341722?pwd=a1KE5RsAag9a2Zka8uv9TwP4SxdMdj.1\n\nIf you are unable to attend this event, please cancel your registration by emailing baltic@tccsa.net
URL:https://www.tccsa.net/event/cte-reporting/
LOCATION:TCCSA – Conference Room\, 2125 Eagle Pass\, Wooster\, OH\, 44691\, United States
CATEGORIES:EMIS Services,Student Information Services
ORGANIZER;CN="Shelly Baltic":MAILTO:baltic@tccsa.net
END:VEVENT
BEGIN:VEVENT
DTSTART;TZID=America/New_York:20251218T100000
DTEND;TZID=America/New_York:20251218T120000
DTSTAMP:20260422T005106
CREATED:20251001T185422Z
LAST-MODIFIED:20251113T181555Z
UID:10000166-1766052000-1766059200@www.tccsa.net
SUMMARY:EMIS Alliance-Concentrating on Concentrators
DESCRIPTION:This training  will focus on Tools for Troubleshooting Data Associated with CTE Accountability – Concentrating on the Concentrators. \nThe 2026 documentation will be posted to our website in the EMIS tab as soon as it is released from ODEW. \n**Updated Time 10:00-12:00*** \nNEW CTE reporting will proceed this training\n\nVirtual URL: https://us02web.zoom.us/j/89762324901?pwd=yNaApKbYNL8JHfPZpyuRbg1OdkWLgP.1\n\nIf you are unable to attend this event, please cancel your registration by emailing baltic@tccsa.net
URL:https://www.tccsa.net/event/emis-alliance-concentrators26/
LOCATION:TCCSA – Training Lab\, 2125 Eagle Pass\, Wooster\, OH\, 44691\, United States
CATEGORIES:EMIS Services
ORGANIZER;CN="Shelly Baltic":MAILTO:baltic@tccsa.net
END:VEVENT
END:VCALENDAR