BEGIN:VCALENDAR
VERSION:2.0
PRODID:-//Tri-County Computer Services Association - ECPv6.15.20//NONSGML v1.0//EN
CALSCALE:GREGORIAN
METHOD:PUBLISH

X-ORIGINAL-URL:https://www.tccsa.net

REFRESH-INTERVAL;VALUE=DURATION:PT1H
X-Robots-Tag:noindex
X-PUBLISHED-TTL:PT1H
BEGIN:VTIMEZONE
TZID:America/New_York
BEGIN:DAYLIGHT
TZOFFSETFROM:-0500
TZOFFSETTO:-0400
TZNAME:EDT
DTSTART:20250309T070000
END:DAYLIGHT
BEGIN:STANDARD
TZOFFSETFROM:-0400
TZOFFSETTO:-0500
TZNAME:EST
DTSTART:20251102T060000
END:STANDARD
BEGIN:DAYLIGHT
TZOFFSETFROM:-0500
TZOFFSETTO:-0400
TZNAME:EDT
DTSTART:20260308T070000
END:DAYLIGHT
BEGIN:STANDARD
TZOFFSETFROM:-0400
TZOFFSETTO:-0500
TZNAME:EST
DTSTART:20261101T060000
END:STANDARD
BEGIN:DAYLIGHT
TZOFFSETFROM:-0500
TZOFFSETTO:-0400
TZNAME:EDT
DTSTART:20270314T070000
END:DAYLIGHT
BEGIN:STANDARD
TZOFFSETFROM:-0400
TZOFFSETTO:-0500
TZNAME:EST
DTSTART:20271107T060000
END:STANDARD
END:VTIMEZONE
BEGIN:VEVENT
DTSTART;TZID=America/New_York:20260112T090000
DTEND;TZID=America/New_York:20260112T110000
DTSTAMP:20260421T050436
CREATED:20251113T190330Z
LAST-MODIFIED:20251113T190535Z
UID:10000273-1768208400-1768215600@www.tccsa.net
SUMMARY:Courses\, Course Sections\, Course Group Clean up
DESCRIPTION:This is a clean up session is preferred to be in person before SYI (School Year Initialization) is completed.  We will discuss course setups\, look at course section and course groups.  We will be working in the current school year to clean out unused courses and course section before they are copied to the 26-27 school year during SYI. \nIf you cannot attend this session another session will be available after SYI is complete to clean up in the future school year. \nNote: This session will be repeated and will not be recorded \nMaterial from the Learning Center: \n\nCourse Course Section Course Group Setup\n\nVirtual URL: https://us02web.zoom.us/j/87177873564?pwd=HvasmChcU7b956qSIerJ4PCuBBXaLA.1\n\nIf you are unable to attend this event, please cancel your registration by emailing baltic@tccsa.net
URL:https://www.tccsa.net/event/course-clean-up2/
LOCATION:TCCSA – Training Lab\, 2125 Eagle Pass\, Wooster\, OH\, 44691\, United States
CATEGORIES:EMIS Services,Student Information Services
ORGANIZER;CN="Shelly Baltic":MAILTO:baltic@tccsa.net
END:VEVENT
END:VCALENDAR