BEGIN:VCALENDAR
VERSION:2.0
PRODID:-//Tri-County Computer Services Association - ECPv6.15.20//NONSGML v1.0//EN
CALSCALE:GREGORIAN
METHOD:PUBLISH
X-ORIGINAL-URL:https://www.tccsa.net

REFRESH-INTERVAL;VALUE=DURATION:PT1H
X-Robots-Tag:noindex
X-PUBLISHED-TTL:PT1H
BEGIN:VTIMEZONE
TZID:America/New_York
BEGIN:DAYLIGHT
TZOFFSETFROM:-0500
TZOFFSETTO:-0400
TZNAME:EDT
DTSTART:20250309T070000
END:DAYLIGHT
BEGIN:STANDARD
TZOFFSETFROM:-0400
TZOFFSETTO:-0500
TZNAME:EST
DTSTART:20251102T060000
END:STANDARD
BEGIN:DAYLIGHT
TZOFFSETFROM:-0500
TZOFFSETTO:-0400
TZNAME:EDT
DTSTART:20260308T070000
END:DAYLIGHT
BEGIN:STANDARD
TZOFFSETFROM:-0400
TZOFFSETTO:-0500
TZNAME:EST
DTSTART:20261101T060000
END:STANDARD
BEGIN:DAYLIGHT
TZOFFSETFROM:-0500
TZOFFSETTO:-0400
TZNAME:EDT
DTSTART:20270314T070000
END:DAYLIGHT
BEGIN:STANDARD
TZOFFSETFROM:-0400
TZOFFSETTO:-0500
TZNAME:EST
DTSTART:20271107T060000
END:STANDARD
END:VTIMEZONE
BEGIN:VEVENT
DTSTART;VALUE=DATE:20261224
DTEND;VALUE=DATE:20261225
DTSTAMP:20260422T132824
CREATED:20251231T180448Z
LAST-MODIFIED:20251231T180448Z
UID:10000347-1798070400-1798156799@www.tccsa.net
SUMMARY:TCCSA Closed
DESCRIPTION:\n\nIf you are unable to attend this event, please cancel your registration by emailing giuffre@tccsa.net
URL:https://www.tccsa.net/event/tccsa-closed-17/
LOCATION:OH
CATEGORIES:Fiscal Services
ORGANIZER;CN="Carolyn Giuffre":MAILTO:giuffre@tccsa.net
END:VEVENT
BEGIN:VEVENT
DTSTART;VALUE=DATE:20261225
DTEND;VALUE=DATE:20261226
DTSTAMP:20260422T132824
CREATED:20251231T180418Z
LAST-MODIFIED:20251231T180418Z
UID:10000346-1798156800-1798243199@www.tccsa.net
SUMMARY:TCCSA Closed
DESCRIPTION:\n\nIf you are unable to attend this event, please cancel your registration by emailing giuffre@tccsa.net
URL:https://www.tccsa.net/event/tccsa-closed-16/
LOCATION:OH
CATEGORIES:Fiscal Services
ORGANIZER;CN="Carolyn Giuffre":MAILTO:giuffre@tccsa.net
END:VEVENT
END:VCALENDAR