BEGIN:VCALENDAR
VERSION:2.0
PRODID:-//Tri-County Computer Services Association - ECPv6.15.20//NONSGML v1.0//EN
CALSCALE:GREGORIAN
METHOD:PUBLISH
X-ORIGINAL-URL:https://www.tccsa.net

REFRESH-INTERVAL;VALUE=DURATION:PT1H
X-Robots-Tag:noindex
X-PUBLISHED-TTL:PT1H
BEGIN:VTIMEZONE
TZID:America/New_York
BEGIN:DAYLIGHT
TZOFFSETFROM:-0500
TZOFFSETTO:-0400
TZNAME:EDT
DTSTART:20250309T070000
END:DAYLIGHT
BEGIN:STANDARD
TZOFFSETFROM:-0400
TZOFFSETTO:-0500
TZNAME:EST
DTSTART:20251102T060000
END:STANDARD
BEGIN:DAYLIGHT
TZOFFSETFROM:-0500
TZOFFSETTO:-0400
TZNAME:EDT
DTSTART:20260308T070000
END:DAYLIGHT
BEGIN:STANDARD
TZOFFSETFROM:-0400
TZOFFSETTO:-0500
TZNAME:EST
DTSTART:20261101T060000
END:STANDARD
BEGIN:DAYLIGHT
TZOFFSETFROM:-0500
TZOFFSETTO:-0400
TZNAME:EDT
DTSTART:20270314T070000
END:DAYLIGHT
BEGIN:STANDARD
TZOFFSETFROM:-0400
TZOFFSETTO:-0500
TZNAME:EST
DTSTART:20271107T060000
END:STANDARD
END:VTIMEZONE
BEGIN:VEVENT
DTSTART;TZID=America/New_York:20260423T090000
DTEND;TZID=America/New_York:20260423T100000
DTSTAMP:20260422T061250
CREATED:20251106T163429Z
LAST-MODIFIED:20260324T133730Z
UID:10000226-1776934800-1776938400@www.tccsa.net
SUMMARY:HRM 101 - Breakdown of Payroll Reports & Uses
DESCRIPTION:In this training\, we will explore the structure and components of payroll reports\, providing practical strategies for interpreting and leveraging them to support accurate financial management and informed decision-making.\n\nVirtual URL: https://us02web.zoom.us/j/82183670331?pwd=KakBm3TuA2kZq8LL5d1tUsTnWa0i4g.1\n\nIf you are unable to attend this event, please cancel your registration by emailing mcatee@tccsa.net
URL:https://www.tccsa.net/event/hrm-101-7/
CATEGORIES:Fiscal Services
ORGANIZER;CN="Kayla McAtee":MAILTO:mcatee@tccsa.net
LOCATION:https://www.tccsa.net/event/hrm-101-7/
END:VEVENT
BEGIN:VEVENT
DTSTART;TZID=America/New_York:20260423T090000
DTEND;TZID=America/New_York:20260423T110000
DTSTAMP:20260422T061250
CREATED:20251001T194727Z
LAST-MODIFIED:20260218T193212Z
UID:10000171-1776934800-1776942000@www.tccsa.net
SUMMARY:**NEW DATE** EMIS Alliance-Where Kids Count
DESCRIPTION:This presentation will focus on troubleshooting the Where Kids Count reports to resolve data reporting issues and verify data for accuracy and completeness. \nDocuments will be available on our website under the EMIS tab once they become available.\n\nVirtual URL: https://us02web.zoom.us/j/83949891747?pwd=rW0SeqhzaPY5wLpFMBLoI8x6SFOlRr.1\n\nIf you are unable to attend this event, please cancel your registration by emailing baltic@tccsa.net
URL:https://www.tccsa.net/event/emis-alliance-wkc26/
LOCATION:TCCSA – Training Lab\, 2125 Eagle Pass\, Wooster\, OH\, 44691\, United States
CATEGORIES:EMIS Services
ORGANIZER;CN="Shelly Baltic":MAILTO:baltic@tccsa.net
END:VEVENT
BEGIN:VEVENT
DTSTART;TZID=America/New_York:20260423T130000
DTEND;TZID=America/New_York:20260423T160000
DTSTAMP:20260422T061250
CREATED:20251106T163717Z
LAST-MODIFIED:20251106T164547Z
UID:10000227-1776949200-1776960000@www.tccsa.net
SUMMARY:Midland Treasurer Meeting
DESCRIPTION:\n\nIf you are unable to attend this event, please cancel your registration by emailing zimmerly@tccsa.net
URL:https://www.tccsa.net/event/midland-treasurer-meeting-9/
LOCATION:TCCSA – Conference Room\, 2125 Eagle Pass\, Wooster\, OH\, 44691\, United States
CATEGORIES:Fiscal Services
ORGANIZER;CN="Todd Zimmerly":MAILTO:zimmerly@tccsa.net
END:VEVENT
BEGIN:VEVENT
DTSTART;VALUE=DATE:20260424
DTEND;VALUE=DATE:20260425
DTSTAMP:20260422T061250
CREATED:20260421T172133Z
LAST-MODIFIED:20260421T172337Z
UID:10000387-1776988800-1777075199@www.tccsa.net
SUMMARY:Cognos Update
DESCRIPTION:There is a Cognos Update scheduled for Friday\, April 24th. If there are any reports you will need on that day\, please run them by the end of business on Thursday\, April 23rd.\n\nUsers will still be able to access eFinancePlus on Friday\, April 24th.  We will notify users once the update has been completed.\n\nIf you are unable to attend this event, please cancel your registration by emailing giuffre@tccsa.net
URL:https://www.tccsa.net/event/cognos-update-2/
CATEGORIES:Fiscal Services
ORGANIZER;CN="Carolyn Giuffre":MAILTO:giuffre@tccsa.net
END:VEVENT
BEGIN:VEVENT
DTSTART;TZID=America/New_York:20260428T090000
DTEND;TZID=America/New_York:20260428T100000
DTSTAMP:20260422T061250
CREATED:20251106T163938Z
LAST-MODIFIED:20260324T133852Z
UID:10000228-1777366800-1777370400@www.tccsa.net
SUMMARY:Fiscal Office Hours
DESCRIPTION:Got a question about FAM or HRM? Join us for a one-hour Fiscal Office Hour where you can bring your questions\, big or small! This is your time to connect with the fiscal team\, talk through real examples\, and get clarity on policies\, processes\, or anything else that’s been on your mind. No formal presentation—just open conversation and helpful guidance. Come for a quick question or stay for the full hour!\n\nVirtual URL: https://us02web.zoom.us/j/83401186424?pwd=blzKnvz9KHSET7C6dt774bs2Mx8NhQ.1\n\nIf you are unable to attend this event, please cancel your registration by emailing zimmerly@tccsa.net
URL:https://www.tccsa.net/event/fiscal-office-hours-4/
CATEGORIES:Fiscal Services
ORGANIZER;CN="Todd Zimmerly":MAILTO:zimmerly@tccsa.net
LOCATION:https://www.tccsa.net/event/fiscal-office-hours-4/
END:VEVENT
BEGIN:VEVENT
DTSTART;TZID=America/New_York:20260428T090000
DTEND;TZID=America/New_York:20260428T233000
DTSTAMP:20260422T061250
CREATED:20251124T160905Z
LAST-MODIFIED:20260105T192453Z
UID:10000301-1777366800-1777419000@www.tccsa.net
SUMMARY:EMIS Connection-Preschool
DESCRIPTION:This EMIS Connection encourages the connection from registering\, educating to reporting.  We will discuss proper entry in the student’s profile such as attendance and percentage of time as well as processes and procedures for correcting issues should errors be discovered. We will look at multiple reports that can be used to verify accurate data. Various scenarios will discussed. \nThese sessions are scheduled for teams to register and work together and ask question specific to your district.  We will be in the Large Conference room so please bring your own device.\n\nIf you are unable to attend this event, please cancel your registration by emailing baltic@tccsa.net
URL:https://www.tccsa.net/event/emis-connection-preschool/
LOCATION:TCCSA – Conference Room\, 2125 Eagle Pass\, Wooster\, OH\, 44691\, United States
CATEGORIES:EMIS Services,Student Information Services
ORGANIZER;CN="Shelly Baltic":MAILTO:baltic@tccsa.net
END:VEVENT
BEGIN:VEVENT
DTSTART;TZID=America/New_York:20260429T130000
DTEND;TZID=America/New_York:20260429T140000
DTSTAMP:20260422T061250
CREATED:20251124T150420Z
LAST-MODIFIED:20260129T184814Z
UID:10000296-1777467600-1777471200@www.tccsa.net
SUMMARY:DataMap-RIMPs and settings
DESCRIPTION:This DataMap deep dive will explore creating RIMPs\, monitoring and tracking.  We will also look at the admin features as well as the the EMIS import for RIMP codes and Dyslexia Screener results. \n  \n \n\nVirtual URL: https://us02web.zoom.us/j/83380469820?pwd=pyR3WhWuvu3NnOGFboWCq70WVP3dim.1\n\nIf you are unable to attend this event, please cancel your registration by emailing baltic@tccsa.net
URL:https://www.tccsa.net/event/dm-rimps-and-settings/
CATEGORIES:EMIS Services,Student Information Services
ORGANIZER;CN="Shelly Baltic":MAILTO:baltic@tccsa.net
LOCATION:https://www.tccsa.net/event/dm-rimps-and-settings/
END:VEVENT
BEGIN:VEVENT
DTSTART;VALUE=DATE:20260430
DTEND;VALUE=DATE:20260501
DTSTAMP:20260422T061250
CREATED:20251231T172728Z
LAST-MODIFIED:20251231T172936Z
UID:10000334-1777507200-1777593599@www.tccsa.net
SUMMARY:Estimated Annual Payroll Information Due
DESCRIPTION:Employers participating in the state foundation program should receive an email about estimating their annual payroll for the upcoming fiscal year. If you haven’t already done so\, please submit your estimate to STRS Ohio by April 30. The projection you provide will be used to calculate your 2025–2026 fiscal year employer contributions due from the state foundation program. View more information including instructions for submitting your estimate.\n\nIf you are unable to attend this event, please cancel your registration by emailing giuffre@tccsa.net
URL:https://www.tccsa.net/event/estimated-annual-payroll-information-due/
CATEGORIES:Fiscal Services
ORGANIZER;CN="Carolyn Giuffre":MAILTO:giuffre@tccsa.net
END:VEVENT
BEGIN:VEVENT
DTSTART;TZID=America/New_York:20260430T090000
DTEND;TZID=America/New_York:20260430T113000
DTSTAMP:20260422T061250
CREATED:20251001T195359Z
LAST-MODIFIED:20251001T195359Z
UID:10000172-1777539600-1777548600@www.tccsa.net
SUMMARY:EMIS-FY26 Period G
DESCRIPTION:We will give an overview of FY26 Period G Graduate Checklist. \n  \nBelow is training materials from the Learning Center needed for the session: \nFY26 Period G EMIS (once updated)\n\nVirtual URL: https://us02web.zoom.us/j/87641300944?pwd=Y4K9MnynbNJAoRvmo9Xa8jb4psaM4m.1\n\nIf you are unable to attend this event, please cancel your registration by emailing baltic@tccsa.net
URL:https://www.tccsa.net/event/emis-fy26-periodg/
LOCATION:TCCSA – Training Lab\, 2125 Eagle Pass\, Wooster\, OH\, 44691\, United States
CATEGORIES:EMIS Services
ORGANIZER;CN="Shelly Baltic":MAILTO:baltic@tccsa.net
END:VEVENT
END:VCALENDAR